BEGIN:VCALENDAR
VERSION:2.0
PRODID:-//Tartu Karaokeklubi//NONSGML kigkonsult.se iCalcreator 2.30.10//
CALSCALE:GREGORIAN
METHOD:PUBLISH
UID:100204a5-8992-40c9-8f20-c8bf230d76c8
X-WR-CALNAME:iCagenda
X-WR-CALDESC:Event Management Extension for Joomla!
X-WR-RELCALID:3E26604A-50F4-4449-8B3E-E4F4932D05B5
X-WR-TIMEZONE:Europe/Tallinn
BEGIN:VTIMEZONE
TZID:Europe/Tallinn
BEGIN:STANDARD
TZNAME:EET
DTSTART:20251026T040000
TZOFFSETFROM:+0300
TZOFFSETTO:+0200
RDATE:20261025T040000
RDATE:20271031T040000
END:STANDARD
BEGIN:DAYLIGHT
TZNAME:EEST
DTSTART:20260329T030000
TZOFFSETFROM:+0200
TZOFFSETTO:+0300
RDATE:20270328T030000
END:DAYLIGHT
END:VTIMEZONE
BEGIN:VEVENT
UID:d9d60ed3-2685-4611-926c-9a867fb5f4f4
DTSTAMP:20260421T154828Z
CATEGORIES:Rakvere
CLASS:PUBLIC
DESCRIPTION;ALTREP="CID:<FFFF__=0ABBE548DFE235B58f9e8a93d@coffeebean.com>":
 &nbsp\;\nLaulude nimekirjad SIIN!
DTSTART:20260507T180000Z
DTEND:20260507T220000Z
GEO:00;0
LOCATION:Virma Pubi - Tallinna 8\, Rakvere
ORGANIZER;CN=:info@virma.ee
SEQUENCE:1
SUMMARY:Kuldkõri Karaoke Rakveres
TRANSP:OPAQUE
URL:https://www.kannuklubi.org/component/icagenda/kuldkori-karaoke-rakveres
 /2026-05-07-21-00
END:VEVENT
END:VCALENDAR
