BEGIN:VCALENDAR
VERSION:2.0
PRODID:-//Tartu Karaokeklubi//NONSGML kigkonsult.se iCalcreator 2.30.10//
CALSCALE:GREGORIAN
METHOD:PUBLISH
UID:78ca78fb-20ee-4689-b22d-019d1e3d5540
X-WR-CALNAME:iCagenda
X-WR-CALDESC:Event Management Extension for Joomla!
X-WR-RELCALID:3E26604A-50F4-4449-8B3E-E4F4932D05B5
X-WR-TIMEZONE:Europe/Tallinn
BEGIN:VTIMEZONE
TZID:Europe/Tallinn
BEGIN:STANDARD
TZNAME:EET
DTSTART:20251026T040000
TZOFFSETFROM:+0300
TZOFFSETTO:+0200
RDATE:20261025T040000
RDATE:20271031T040000
END:STANDARD
BEGIN:DAYLIGHT
TZNAME:EEST
DTSTART:20260329T030000
TZOFFSETFROM:+0200
TZOFFSETTO:+0300
RDATE:20270328T030000
END:DAYLIGHT
END:VTIMEZONE
BEGIN:VEVENT
UID:42952745-4d67-4d18-a98c-37bf5d422733
DTSTAMP:20260421T160959Z
CATEGORIES:Tartu
CLASS:PUBLIC
DESCRIPTION;ALTREP="CID:<FFFF__=0ABBE548DFE235B58f9e8a93d@coffeebean.com>":
 Võistluse finaal! Peale seda vaba mikker!\nTutvu reeglitega meie kodulehel
 :&nbsp\;https://kannuklubi.org/klubi/uritused/duettide-konkurss\nLaulunime
 kirjad leiad siit:&nbsp\;https://kannuklubi.org/laulude-nimekiri\nOsalusta
 su + tervitusjook/söök 6€
DTSTART:20260514T170000Z
DTEND:20260514T170000Z
GEO:00;0
LOCATION:Õlleministeerium - Vanemuise 21a\, Tartu
ORGANIZER:
SEQUENCE:1
SUMMARY:'Duettide Konkurss 2026' FINAAL
TRANSP:OPAQUE
URL:https://www.kannuklubi.org/component/icagenda/olleministeerium-duettide
 -konkurss-2/2026-05-14-20-00
END:VEVENT
END:VCALENDAR
