BEGIN:VCALENDAR
VERSION:2.0
PRODID:-//Tartu Karaokeklubi//NONSGML kigkonsult.se iCalcreator 2.30.10//
CALSCALE:GREGORIAN
METHOD:PUBLISH
UID:2f4b403a-d400-4707-ba69-3dbd29847053
X-WR-CALNAME:iCagenda
X-WR-CALDESC:Event Management Extension for Joomla!
X-WR-RELCALID:3E26604A-50F4-4449-8B3E-E4F4932D05B5
X-WR-TIMEZONE:Europe/Tallinn
BEGIN:VTIMEZONE
TZID:Europe/Tallinn
BEGIN:STANDARD
TZNAME:EET
DTSTART:20251026T040000
TZOFFSETFROM:+0300
TZOFFSETTO:+0200
RDATE:20261025T040000
RDATE:20271031T040000
END:STANDARD
BEGIN:DAYLIGHT
TZNAME:EEST
DTSTART:20260329T030000
TZOFFSETFROM:+0200
TZOFFSETTO:+0300
RDATE:20270328T030000
END:DAYLIGHT
END:VTIMEZONE
BEGIN:VEVENT
UID:23631816-0bfd-4090-b5b5-2373c101aa4c
DTSTAMP:20260421T155433Z
CATEGORIES:Tartu
CLASS:PUBLIC
DESCRIPTION;ALTREP="CID:<FFFF__=0ABBE548DFE235B58f9e8a93d@coffeebean.com>":
 Info on täiendamisel\nLaulunimekirjad leiab siit:&nbsp\;https://kannuklubi
 .org/laulude-nimekiri\nOsalustasu + tervitusjook/söök 6€
DTSTART:20260528T170000Z
DTEND:20260528T170000Z
GEO:00;0
LOCATION:Õlleministeerium - Vanemuise 21a\, Tartu
ORGANIZER:
SEQUENCE:1
SUMMARY:MTÜ TKK 13. sünnipäev ja hooaja lõpetamine
TRANSP:OPAQUE
URL:https://www.kannuklubi.org/component/icagenda/olleministeerium-hooaja-l
 opp/2026-05-28-20-00
END:VEVENT
END:VCALENDAR
