BEGIN:VCALENDAR
VERSION:2.0
PRODID:-//Tartu Karaokeklubi//NONSGML kigkonsult.se iCalcreator 2.30.10//
CALSCALE:GREGORIAN
METHOD:PUBLISH
UID:0355c784-b053-44c7-9823-669c9215d257
X-WR-CALNAME:iCagenda
X-WR-CALDESC:Event Management Extension for Joomla!
X-WR-RELCALID:3E26604A-50F4-4449-8B3E-E4F4932D05B5
X-WR-TIMEZONE:Europe/Tallinn
BEGIN:VTIMEZONE
TZID:Europe/Tallinn
BEGIN:STANDARD
TZNAME:EET
DTSTART:20251026T040000
TZOFFSETFROM:+0300
TZOFFSETTO:+0200
RDATE:20261025T040000
RDATE:20271031T040000
END:STANDARD
BEGIN:DAYLIGHT
TZNAME:EEST
DTSTART:20260329T030000
TZOFFSETFROM:+0200
TZOFFSETTO:+0300
RDATE:20270328T030000
END:DAYLIGHT
END:VTIMEZONE
BEGIN:VEVENT
UID:4471aff8-a492-4f7b-90ba-e584837f0279
DTSTAMP:20260421T155528Z
CATEGORIES:Viljandi
CLASS:PUBLIC
DESCRIPTION;ALTREP="CID:<FFFF__=0ABBE548DFE235B58f9e8a93d@coffeebean.com>":
 \n\nIgal neljapäeval nüüd Lokaal Saharas\, Posti 6\, mikrofon avatud kõigi
 le.\nTublimatele auhinnad\, sissepääs tasuta!\n\n\n&nbsp\;
DTSTART:20260528T170000Z
DTEND:20260528T220000Z
GEO:00;0
LOCATION:Lokaal Sahara - Posti 6\, Viljandi
ORGANIZER;CN=:saharaviljandi@gmail.com
SEQUENCE:1
SUMMARY:Eesti Gun Karaoke Lokaalis Sahara
TRANSP:OPAQUE
URL:https://www.kannuklubi.org/component/icagenda/sahara-karaoke/2026-05-28
 -20-00
END:VEVENT
END:VCALENDAR
